BEGIN:VCALENDAR
VERSION:2.0
PRODID:-//F&uuml;rstenberger Carnevals Club e.V. - ECPv6.15.20//NONSGML v1.0//EN
CALSCALE:GREGORIAN
METHOD:PUBLISH
X-ORIGINAL-URL:https://fuerstenberger-carnevals-club.de
X-WR-CALDESC:Veranstaltungen für F&uuml;rstenberger Carnevals Club e.V.
REFRESH-INTERVAL;VALUE=DURATION:PT1H
X-Robots-Tag:noindex
X-PUBLISHED-TTL:PT1H
BEGIN:VTIMEZONE
TZID:UTC
BEGIN:STANDARD
TZOFFSETFROM:+0000
TZOFFSETTO:+0000
TZNAME:UTC
DTSTART:20250101T000000
END:STANDARD
END:VTIMEZONE
BEGIN:VEVENT
DTSTART;TZID=UTC:20260131T000000
DTEND;TZID=UTC:20260131T235959
DTSTAMP:20260420T120837
CREATED:20251012T180944Z
LAST-MODIFIED:20251015T073846Z
UID:332-1769817600-1769903999@fuerstenberger-carnevals-club.de
SUMMARY:Karneval der Generationen
DESCRIPTION:
URL:https://fuerstenberger-carnevals-club.de/event/karneval-der-generationen/
LOCATION:Alter Schafstall\, Hexenweg 1\, Fürstenberg\, 33181\, Germany
END:VEVENT
END:VCALENDAR